BEGIN:VCALENDAR
VERSION:2.0
PRODID:-//Apsis Emergence - ECPv6.15.12.2//NONSGML v1.0//EN
CALSCALE:GREGORIAN
METHOD:PUBLISH
X-WR-CALNAME:Apsis Emergence
X-ORIGINAL-URL:https://apsis-emergence.fr
X-WR-CALDESC:Évènements pour Apsis Emergence
REFRESH-INTERVAL;VALUE=DURATION:PT1H
X-Robots-Tag:noindex
X-PUBLISHED-TTL:PT1H
BEGIN:VTIMEZONE
TZID:Europe/Paris
BEGIN:DAYLIGHT
TZOFFSETFROM:+0100
TZOFFSETTO:+0200
TZNAME:CEST
DTSTART:20220327T010000
END:DAYLIGHT
BEGIN:STANDARD
TZOFFSETFROM:+0200
TZOFFSETTO:+0100
TZNAME:CET
DTSTART:20221030T010000
END:STANDARD
BEGIN:DAYLIGHT
TZOFFSETFROM:+0100
TZOFFSETTO:+0200
TZNAME:CEST
DTSTART:20230326T010000
END:DAYLIGHT
BEGIN:STANDARD
TZOFFSETFROM:+0200
TZOFFSETTO:+0100
TZNAME:CET
DTSTART:20231029T010000
END:STANDARD
BEGIN:DAYLIGHT
TZOFFSETFROM:+0100
TZOFFSETTO:+0200
TZNAME:CEST
DTSTART:20240331T010000
END:DAYLIGHT
BEGIN:STANDARD
TZOFFSETFROM:+0200
TZOFFSETTO:+0100
TZNAME:CET
DTSTART:20241027T010000
END:STANDARD
END:VTIMEZONE
BEGIN:VEVENT
DTSTART;VALUE=DATE:20230623
DTEND;VALUE=DATE:20230624
DTSTAMP:20260421T122441
CREATED:20230829T164103Z
LAST-MODIFIED:20230829T164103Z
UID:23277-1687478400-1687564799@apsis-emergence.fr
SUMMARY:Plénière d’été de notre association  le vendredi 23 juin 2023 avec l’invitation de Sébastian Roché sur le thème « L’intégration citoyenne de la jeunesse et la délinquance. Solidarité\, prévention\, répression : quels effets ? »
DESCRIPTION:Plénière d’été 2023 APSIS EMERGENCE à Pokeyland\nAu programme 👇🏼 \n-Conférence sur la délinquance présentée par Sebastian Roché\n-Déjeuner autour d’un barbecue\n-Après-midi libre dans le parc : paintball\, accrobranche\, mini-golf\, tir à l’arc\, et plein d’autres activités ⛳ 🏌‍♀️ 🧗‍♂️ \nNous tenons à remercier nos partenaires pour leur présence\, Vincent Di Bartolo\, Daniella Renaux\, Anaïs Mathieu de l’Eurométropole de Metz et Camille Brandard-Donati du Département de la Moselle. \nAuteur de nombreux ouvrages et articles internationaux\, Sébastian Roché s’est spécialisé sur les thématiques de la délinquance et les problématiques relatives à l’insécurité. \nSes travaux sont mobilisés et son expertise est sollicitée par les autorités de l’État : Assemblée Nationale\, Commissions des lois\, Conseils scientifiques et stratégiques auprès de ministères… \nAu cours de cette conférence\, Sébastian Roché a abordé les questions relatives\, à la transformation de la délinquance\, aux réponses pénales et à l’intégration citoyenne de la jeunesse.
URL:https://apsis-emergence.fr/evenement/pleniere-dete-avec-sebastian-roche/
LOCATION:Pokeyland\, La haie focart\, Fey\, 57420\, France
CATEGORIES:Plénière
ATTACH;FMTTYPE=image/jpeg:https://apsis-emergence.fr/wp-content/uploads/2023/08/Image_pleniere_ete2.jpg
END:VEVENT
BEGIN:VEVENT
DTSTART;TZID=Europe/Paris:20230503T090000
DTEND;TZID=Europe/Paris:20230503T170000
DTSTAMP:20260421T122441
CREATED:20230525T231950Z
LAST-MODIFIED:20230526T092131Z
UID:22940-1683104400-1683133200@apsis-emergence.fr
SUMMARY:Journée d'étude organisée en collaboration avec l'IRTS
DESCRIPTION:Accueil et suivis socio-éducatifs à l’échelle d’un territoire\nMercredi 3 mai 2023 de 9h à 17h\nIRTS de Lorraine – 41 avenue de la Liberté – 57050 Le Ban-Saint-Martin \nOrganisée par :  \nAPSIS-Emergence – IRTS de Lorraine \nAvec la participation de :  \nConseil départemental de la Moselle – Conseil départemental de la Meurthe-et-Moselle – Direction départementale de l’économie\, de l’emploi\, du travail et des solidarités de Moselle – Moissons Nouvelles – REALISE – Centre Départemental de l’Enfance de Moselle – CMSEA – Fondation Vincent de Paul – AMSEAA – Adali Habitat  \nINSCRIPTIONS – RENSEIGNEMENTS \nINSCRIPTION GRATUITE jusqu’au lundi 24 avril.
URL:https://apsis-emergence.fr/evenement/mna-irts/
LOCATION:IRTS\, 41 avenue de la Liberté\, Le Ban-Saint-Martin\, 57050\, France
CATEGORIES:Apsis-Emergence
ATTACH;FMTTYPE=image/webp:https://apsis-emergence.fr/wp-content/uploads/2023/05/Image-scaled.webp
END:VEVENT
BEGIN:VEVENT
DTSTART;VALUE=DATE:20230101
DTEND;VALUE=DATE:20230102
DTSTAMP:20260421T122441
CREATED:20230119T110304Z
LAST-MODIFIED:20230119T111051Z
UID:22518-1672531200-1672617599@apsis-emergence.fr
SUMMARY:Plénière de vœux Apsis-Emergence pour l’année 2023
DESCRIPTION:Au programme 👇🏼\n-Présentation de la MECS du FAJO de Fameck suite à sa fusion- absorption avec Apsis-Emergence\n-Présentation du dispositif « Chantiers éducatifs »\n-Présentation de l’appel à projet « Contrat d’engagement Jeunes – volet jeunes en rupture »\n-Les vœux de la présidente de l’association\, Madame Nicole DUMAY et du directeur général\, Monsieur Mounir El Harradi  \nPénélope PERSELLO Camille Bourguignon Fathi Ben Mrad Richard Rabassa Halima BOUCHAHDA Christophe Romano Habib Ait L’HOUCINE\nQuelques retours en images 📸
URL:https://apsis-emergence.fr/evenement/pleniere-de-voeux-2023/
CATEGORIES:Apsis-Emergence
ATTACH;FMTTYPE=image/jpeg:https://apsis-emergence.fr/wp-content/uploads/2023/01/a.jpeg
END:VEVENT
END:VCALENDAR